BEGIN:VCALENDAR
VERSION:2.0
PRODID:-//Training Institute, SCCCD - ECPv6.15.20//NONSGML v1.0//EN
CALSCALE:GREGORIAN
METHOD:PUBLISH
X-ORIGINAL-URL:https://mytraininginstitute.org
X-WR-CALDESC:Events for Training Institute, SCCCD
REFRESH-INTERVAL;VALUE=DURATION:PT1H
X-Robots-Tag:noindex
X-PUBLISHED-TTL:PT1H
BEGIN:VTIMEZONE
TZID:America/Los_Angeles
BEGIN:DAYLIGHT
TZOFFSETFROM:-0800
TZOFFSETTO:-0700
TZNAME:PDT
DTSTART:20250309T100000
END:DAYLIGHT
BEGIN:STANDARD
TZOFFSETFROM:-0700
TZOFFSETTO:-0800
TZNAME:PST
DTSTART:20251102T090000
END:STANDARD
BEGIN:DAYLIGHT
TZOFFSETFROM:-0800
TZOFFSETTO:-0700
TZNAME:PDT
DTSTART:20260308T100000
END:DAYLIGHT
BEGIN:STANDARD
TZOFFSETFROM:-0700
TZOFFSETTO:-0800
TZNAME:PST
DTSTART:20261101T090000
END:STANDARD
BEGIN:DAYLIGHT
TZOFFSETFROM:-0800
TZOFFSETTO:-0700
TZNAME:PDT
DTSTART:20270314T100000
END:DAYLIGHT
BEGIN:STANDARD
TZOFFSETFROM:-0700
TZOFFSETTO:-0800
TZNAME:PST
DTSTART:20271107T090000
END:STANDARD
END:VTIMEZONE
BEGIN:VEVENT
DTSTART;TZID=America/Los_Angeles:20260105T170000
DTEND;TZID=America/Los_Angeles:20260425T220000
DTSTAMP:20260421T091105
CREATED:20250910T185234Z
LAST-MODIFIED:20250910T185627Z
UID:10000047-1767632400-1777154400@mytraininginstitute.org
SUMMARY:Welding Program
DESCRIPTION:Welding AWS Certification Program\n\n\n\n\n\n\nHands-On Training. Industry Certifications. A Career That Sparks.\n\n\n\n\n\nPrepare for a high-demand\, high-skill career in welding with the State Center Welding Program—an accelerated\, 16-week\, cohort-based training designed to get you job-ready fast. Whether you’re starting a new career or upgrading your skills\, this program provides the technical training and industry-recognized certifications to launch your future in welding. \n\n\n\n\n\n\n\n\n\n\n\nProgram Overview\n\n\n\n\n\nAccelerated 16-week workforce development training\nHands-on lab experience using industry-standard tools and techniques\nAmerican Welding Society (AWS) Certification prep in GMAW\, GTAW\, SMAW\, and FCAW processes\nJob placement assistance available after program completion\n\n\n\n\n\n\n\n\n\n\n\n\nWho Should Attend?\n\n\n\n\n\n\n\n\n\n\n\n\nThis program is ideal for individuals seeking a fast-track path into the skilled trades. No prior welding experience is required—just a commitment to hands-on learning and a strong work ethic. \n\n\n\n\nWhat You’ll Learn\n\n\n\n\n\nGas Metal Arc Welding (GMAW/MIG)\nFlux Cored Arc Welding (FCAW)\nShielded Metal Arc Welding (SMAW)\nGas Tungsten Arc Welding (GTAW/TIG)\n\n\n\n\n\nProgram Requirements\n\n\n\n\n\nMinimum 18 years of age\nMust participate in intake assessment\nMust submit to drug screening and background check\n\n\n\n\n\nAdvisory Notes\n\n\n\n\n\nProgram uses AWS online classroom curriculum\nThis is a fee-based program that is not-for-credit (scholarships are available)\n\n\n\n\n\nNote: This is a fee-based\, not-for-credit program. For scholarship options\, visit GJCScholarship. \n\n\n\n\n\n\nProgram Cost\n\n\n\n\n\n$6\,495* – Registration Fees\n\n\n\n\n\n*Scholarships are available through the Fresno County Economic Development Corporation’s Good Jobs Challenge program for those who may be unemployed or underemployed. If eligible\, an awarded scholarship may cover full or partial fees and required equipment. Complete the following questionnaire indicate program interest and apply for a scholarship: GJCScholarship \n\n\n\n\n\n\n\nImportant Dates\n\nRegistration Deadline: 10/13/25\nScreening/Interviews: 10/15/25 – 10/29/25\nAdmission Notification: 11/10/25\nMandatory Orientation: 12/08/25\nProgram Dates: 01/05/26 – 04/25/26
URL:https://mytraininginstitute.org/event/welding-program/
LOCATION:West Fresno Campus\, 600 E. Church Ave.\, Fresno\, 93706\, United States
ATTACH;FMTTYPE=image/png:https://mytraininginstitute.org/wp-content/uploads/2025/04/Welding-Program-Category.png
ORGANIZER;CN="The Training Institute":MAILTO:frank.nunez@scccd.edu
END:VEVENT
END:VCALENDAR